BEGIN:VCALENDAR
VERSION:2.0
PRODID:-// - ECPv6.15.20//NONSGML v1.0//EN
CALSCALE:GREGORIAN
METHOD:PUBLISH
X-ORIGINAL-URL:https://www.animath.fr
X-WR-CALDESC:Évènements pour 
REFRESH-INTERVAL;VALUE=DURATION:PT1H
X-Robots-Tag:noindex
X-PUBLISHED-TTL:PT1H
BEGIN:VTIMEZONE
TZID:Europe/Paris
BEGIN:DAYLIGHT
TZOFFSETFROM:+0100
TZOFFSETTO:+0200
TZNAME:CEST
DTSTART:20250330T010000
END:DAYLIGHT
BEGIN:STANDARD
TZOFFSETFROM:+0200
TZOFFSETTO:+0100
TZNAME:CET
DTSTART:20251026T010000
END:STANDARD
BEGIN:DAYLIGHT
TZOFFSETFROM:+0100
TZOFFSETTO:+0200
TZNAME:CEST
DTSTART:20260329T010000
END:DAYLIGHT
BEGIN:STANDARD
TZOFFSETFROM:+0200
TZOFFSETTO:+0100
TZNAME:CET
DTSTART:20261025T010000
END:STANDARD
BEGIN:DAYLIGHT
TZOFFSETFROM:+0100
TZOFFSETTO:+0200
TZNAME:CEST
DTSTART:20270328T010000
END:DAYLIGHT
BEGIN:STANDARD
TZOFFSETFROM:+0200
TZOFFSETTO:+0100
TZNAME:CET
DTSTART:20271031T010000
END:STANDARD
END:VTIMEZONE
BEGIN:VEVENT
DTSTART;TZID=Europe/Paris:20260513T090000
DTEND;TZID=Europe/Paris:20260513T170000
DTSTAMP:20260421T121648
CREATED:20240502T144126Z
LAST-MODIFIED:20251212T123137Z
UID:6143-1778662800-1778691600@www.animath.fr
SUMMARY:Concours Alkindi - Finale
DESCRIPTION:Le concours Alkindi est une compétition de cryptographie ouverte aux classes de 4e\, 3e et 2de. Il est organisé par les associations Animath et France-ioi. La participation est entièrement gratuite. Le concours se déroule en 3 tours et une finale. Les deux premiers tours accessibles sans sélection. Une phase de préparation permet ensuite de se qualifier au troisième tour\, à l’issue duquel les 20 meilleures équipes accèdent à la finale. \n\n\n\nLa finale est une épreuve de 2 heures. Les sujets des années précédentes sont disponibles sur cette page). Les élèves assisteront à des ateliers de cryptographie donnés par des chercheurs\, avant la cérémonie de clôture\, lors de laquelle les résultats seront annoncés\, avec la participation de nos différents partenaires.
URL:https://www.animath.fr/event/concours-alkindi-finale/
LOCATION:École des Mines de Paris – Université PSL\, 60 Boulevard Saint-Michel\, Paris\, 75272\, France
CATEGORIES:Actions Animath,Concours Alkindi
ATTACH;FMTTYPE=image/jpeg:https://www.animath.fr/wp-content/uploads/2024/10/test2025-2.jpg
ORGANIZER;CN="Animath &#038%3B France IoI":MAILTO:info@concours-alkindi.fr
END:VEVENT
END:VCALENDAR