BEGIN:VCALENDAR
VERSION:2.0
PRODID:-// - ECPv6.15.20//NONSGML v1.0//EN
CALSCALE:GREGORIAN
METHOD:PUBLISH
X-ORIGINAL-URL:https://www.animath.fr
X-WR-CALDESC:Évènements pour 
REFRESH-INTERVAL;VALUE=DURATION:PT1H
X-Robots-Tag:noindex
X-PUBLISHED-TTL:PT1H
BEGIN:VTIMEZONE
TZID:Europe/Paris
BEGIN:DAYLIGHT
TZOFFSETFROM:+0100
TZOFFSETTO:+0200
TZNAME:CEST
DTSTART:20240331T010000
END:DAYLIGHT
BEGIN:STANDARD
TZOFFSETFROM:+0200
TZOFFSETTO:+0100
TZNAME:CET
DTSTART:20241027T010000
END:STANDARD
BEGIN:DAYLIGHT
TZOFFSETFROM:+0100
TZOFFSETTO:+0200
TZNAME:CEST
DTSTART:20250330T010000
END:DAYLIGHT
BEGIN:STANDARD
TZOFFSETFROM:+0200
TZOFFSETTO:+0100
TZNAME:CET
DTSTART:20251026T010000
END:STANDARD
BEGIN:DAYLIGHT
TZOFFSETFROM:+0100
TZOFFSETTO:+0200
TZNAME:CEST
DTSTART:20260329T010000
END:DAYLIGHT
BEGIN:STANDARD
TZOFFSETFROM:+0200
TZOFFSETTO:+0100
TZNAME:CET
DTSTART:20261025T010000
END:STANDARD
END:VTIMEZONE
BEGIN:VEVENT
DTSTART;TZID=Europe/Paris:20250604T080000
DTEND;TZID=Europe/Paris:20250604T170000
DTSTAMP:20260421T121338
CREATED:20250407T133506Z
LAST-MODIFIED:20250604T090717Z
UID:6880-1749024000-1749056400@www.animath.fr
SUMMARY:Coupe Animath de Printemps – 2e Tour
DESCRIPTION:La coupe Animath de printemps est une épreuve de mathématiques originales\, servant notamment à sélectionner les élèves qui participeront au stage olympique d’été. Ce dernier aura lieu du 14 au 25 août 2025 à Valbonne\, dans le Sud de la France. La coupe s’adresse aux élèves intéressés par les mathématiques de la quatrième (les élèves de cinquième peuvent également participer\, mais il est possible que certaines notions nécessaires à la résolution des problèmes relèvent du programme de quatrième) à la première. Elle se déroule en deux phases. \n\n\n\nPour la seconde phase : si vous êtes qualifié pour le second tour\, le site des inscriptions vous fournira un PDF à imprimer et à donner à votre professeur(e) de mathématiques\, afin que votre établissement scolaire organise l’épreuve sur table qui aura lieu le mercredi 4 juin. Plus de précisions vous seront données lors de l’annonce des résultats du premier tour le mercredi 21 mai. \n\n\n\nIl est à noter que la participation au tour 1 est indispensable pour pouvoir participer au tour 2. Personne ne bénéficiera d’une qualification automatique pour le tour 2. Si des élèves composent pour le tour 2 sans avoir passé la sélection à l’issue du tour 1\, leur copie ne sera pas corrigée.
URL:https://www.animath.fr/event/coupe-animath-de-printemps-2e-tour-2/
CATEGORIES:Actions Animath,Préparation Olympique Française de Mathématiques
ATTACH;FMTTYPE=image/jpeg:https://www.animath.fr/wp-content/uploads/2018/01/pofm.jpg
END:VEVENT
END:VCALENDAR